Workbook
Name Non_Student: 'Rate Table'!$A$3:$A$103
Name Non_Student_Labor: 'Rate Table'!$A$3:$B$103
Name Post_Doc: 'Rate Table'!$A$107:$A$151
Name Post_Doc_Labor: 'Rate Table'!$A$107:$B$151
Name Salary_Cap: Personnel!$E$2
Name Student: 'Rate Table'!#REF!
Name Student_Labor: 'Rate Table'!#REF!
Name Students: 'Rate Table'!#REF!
Name Sub1_DC: Subcontracts!$D$5:$H$5
Name Sub1_TC: Subcontracts!$D$5:$H$6

Sheet Sponsor Cost
B1: Sponsor Budget
A2: Principal Investigator
A3: Project Title
A4: Sponsor
A5: Prime Sponsor
A6: Period of Performance | B6: Start | D6: End
B7: Proposal No.
A9: Budget Period | B9: Year 1 | C9: Year 2 | D9: Year 3 | E9: Year 4 | F9: Year 5 | G9: Total Cost
A10: Start | B10: =C6 -> 0 | C10: =EDATE(B10,12) -> 366 | D10: =EDATE(C10,12) -> 731 | E10: =EDATE(D10,12) -> 1096 | F10: =EDATE(E10,12) -> 1461
A11: End | B11: =C10-1 -> 365 | C11: =D10-1 -> 730 | D11: =E10-1 -> 1095 | E11: =F10-1 -> 1460 | F11: =EDATE(F10,12)-1 -> 1826
A12: Labor Dollars
A13: Faculty | B13: =ROUND('Labor Detail'!B36,0) -> 0 | C13: =ROUND('Labor Detail'!C36,0) -> 0 | D13: =ROUND('Labor Detail'!D36,0) -> 0 | E13: =ROUND('Labor Detail'!E36,0) -> 0 | F13: =ROUND('Labor Detail'!F36,0) -> 0 | G13: =ROUND(SUM(B13:F13),0) -> 0
A14: F/T Regular Employee (Staff) | B14: =ROUND('Labor Detail'!B45,0) -> 0 | C14: =ROUND('Labor Detail'!C45,0) -> 0 | D14: =ROUND('Labor Detail'!D45,0) -> 0 | E14: =ROUND('Labor Detail'!E45,0) -> 0 | F14: =ROUND('Labor Detail'!F45,0) -> 0 | G14: =ROUND(SUM(B14:F14),0) -> 0
A15: Hourly / Undergrad | B15: =ROUND('Labor Detail'!B53,0) -> 0 | C15: =ROUND('Labor Detail'!C53,0) -> 0 | D15: =ROUND('Labor Detail'!D53,0) -> 0 | E15: =ROUND('Labor Detail'!E53,0) -> 0 | F15: =ROUND('Labor Detail'!F53,0) -> 0 | G15: =ROUND(SUM(B15:F15),0) -> 0
A16: Post-Doc | B16: =ROUND('Labor Detail'!B61,0) -> 0 | C16: =ROUND('Labor Detail'!C61,0) -> 0 | D16: =ROUND('Labor Detail'!D61,0) -> 0 | E16: =ROUND('Labor Detail'!E61,0) -> 0 | F16: =ROUND('Labor Detail'!F61,0) -> 0 | G16: =ROUND(SUM(B16:F16),0) -> 0
A17: Graduate Students | B17: =ROUND('Labor Detail'!B69,0) -> 0 | C17: =ROUND('Labor Detail'!C69,0) -> 0 | D17: =ROUND('Labor Detail'!D69,0) -> 0 | E17: =ROUND('Labor Detail'!E69,0) -> 0 | F17: =ROUND('Labor Detail'!F69,0) -> 0 | G17: =ROUND(SUM(B17:F17),0) -> 0
A18: Subtotal Labor | B18: =ROUND(SUM(B13:B17),0) -> 0 | C18: =ROUND(SUM(C13:C17),0) -> 0 | D18: =ROUND(SUM(D13:D17),0) -> 0 | E18: =ROUND(SUM(E13:E17),0) -> 0 | F18: =ROUND(SUM(F13:F17),0) -> 0 | G18: =ROUND(SUM(G13:G17),0) -> 0
A20: Fringe Benefits
A21: Faculty | B21: =ROUND('Labor Detail'!H36,0) -> 0 | C21: =ROUND('Labor Detail'!I36,0) -> 0 | D21: =ROUND('Labor Detail'!J36,0) -> 0 | E21: =ROUND('Labor Detail'!K36,0) -> 0 | F21: =ROUND('Labor Detail'!L36,0) -> 0 | G21: =ROUND(SUM(B21:F21),0) -> 0
A22: F/T Regular Employee (Staff) | B22: =ROUND('Labor Detail'!H45,0) -> 0 | C22: =ROUND('Labor Detail'!I45,0) -> 0 | D22: =ROUND('Labor Detail'!J45,0) -> 0 | E22: =ROUND('Labor Detail'!K45,0) -> 0 | F22: =ROUND('Labor Detail'!L45,0) -> 0 | G22: =ROUND(SUM(B22:F22),0) -> 0
A23: Hourly / Undergrad | B23: =ROUND('Labor Detail'!H53,0) -> 0 | C23: =ROUND('Labor Detail'!I53,0) -> 0 | D23: =ROUND('Labor Detail'!J53,0) -> 0 | E23: =ROUND('Labor Detail'!K53,0) -> 0 | F23: =ROUND('Labor Detail'!L53,0) -> 0 | G23: =ROUND(SUM(B23:F23),0) -> 0
A24: Post Doc | B24: =ROUND('Labor Detail'!H61,0) -> 0 | C24: =ROUND('Labor Detail'!I61,0) -> 0 | D24: =ROUND('Labor Detail'!J61,0) -> 0 | E24: =ROUND('Labor Detail'!K61,0) -> 0 | F24: =ROUND('Labor Detail'!L61,0) -> 0 | G24: =ROUND(SUM(B24:F24),0) -> 0
A25: Graduate Students | B25: =ROUND('Labor Detail'!H69,0) -> 0 | C25: =ROUND('Labor Detail'!I69,0) -> 0 | D25: =ROUND('Labor Detail'!J69,0) -> 0 | E25: =ROUND('Labor Detail'!K69,0) -> 0 | F25: =ROUND('Labor Detail'!L69,0) -> 0 | G25: =ROUND(SUM(B25:F25),0) -> 0
A26: Subtotal Fringe Benefits | B26: =ROUND(SUM(B21:B25),0) -> 0 | C26: =ROUND(SUM(C21:C25),0) -> 0 | D26: =ROUND(SUM(D21:D25),0) -> 0 | E26: =ROUND(SUM(E21:E25),0) -> 0 | F26: =ROUND(SUM(F21:F25),0) -> 0 | G26: =ROUND(SUM(G21:G25),0) -> 0
A28: Other Direct Cost
A29: Equipment | B29: =ROUND(Equipment!D26-Equipment!D40,0) -> 0 | C29: =ROUND(Equipment!E26-Equipment!E40,0) -> 0 | D29: =ROUND(Equipment!F26-Equipment!F40,0) -> 0 | E29: =ROUND(Equipment!G26-Equipment!G40,0) -> 0 | F29: =ROUND(Equipment!H26-Equipment!H40,0) -> 0 | G29: =ROUND(SUM(B29:F29),0) -> 0
A30: Travel | B30: =ROUND(Travel!E16-Travel!E19,0) -> 0 | C30: =ROUND(Travel!F16-Travel!F19,0) -> 0 | D30: =ROUND(Travel!G16-Travel!G19,0) -> 0 | E30: =ROUND(Travel!H16-Travel!H19,0) -> 0 | F30: =ROUND(Travel!I16-Travel!I19,0) -> 0 | G30: =ROUND(SUM(B30:F30),0) -> 0
A31: Domestic | B31: =ROUND(Travel!E17,0) -> 0 | C31: =ROUND(Travel!F17,0) -> 0 | D31: =ROUND(Travel!G17,0) -> 0 | E31: =ROUND(Travel!H17,0) -> 0 | F31: =ROUND(Travel!I17,0) -> 0 | G31: =ROUND(SUM(B31:F31),0) -> 0
A32: Foreign | B32: =ROUND(Travel!E18,0) -> 0 | C32: =ROUND(Travel!F18,0) -> 0 | D32: =ROUND(Travel!G18,0) -> 0 | E32: =ROUND(Travel!H18,0) -> 0 | F32: =ROUND(Travel!I18,0) -> 0 | G32: =ROUND(SUM(B32:F32),0) -> 0
A33: Honorariums | B33: =ROUND(Honorarium!D26-Honorarium!D40,0) -> 0 | C33: =ROUND(Honorarium!E26-Honorarium!E40,0) -> 0 | D33: =ROUND(Honorarium!F26-Honorarium!F40,0) -> 0 | E33: =ROUND(Honorarium!G26-Honorarium!G40,0) -> 0 | F33: =ROUND(Honorarium!H26-Honorarium!H40,0) -> 0 | G33: =ROUND(SUM(B33:F33),0) -> 0
A34: Materials and Supplies | B34: =ROUND(Materials!D26-Materials!D40,0) -> 0 | C34: =ROUND(Materials!E26-Materials!E40,0) -> 0 | D34: =ROUND(Materials!F26-Materials!F40,0) -> 0 | E34: =ROUND(Materials!G26-Materials!G40,0) -> 0 | F34: =ROUND(Materials!H26-Materials!H40,0) -> 0 | G34: =ROUND(SUM(B34:F34),0) -> 0
A35: Services/Consulting | B35: =ROUND(Services_Consulting!D26-Services_Consulting!D40,0) -> 0 | C35: =ROUND(Services_Consulting!E26-Services_Consulting!E40,0) -> 0 | D35: =ROUND(Services_Consulting!F26-Services_Consulting!F40,0) -> 0 | E35: =ROUND(Services_Consulting!G26-Services_Consulting!G40,0) -> 0 | F35: =ROUND(Services_Consulting!H26-Services_Consulting!H40,0) -> 0 | G35: =ROUND(SUM(B35:F35),0) -> 0
A36: Participant Support Costs | B36: =ROUND('Participant Costs'!D26-'Participant Costs'!D40,0) -> 0 | C36: =ROUND('Participant Costs'!E26-'Participant Costs'!E40,0) -> 0 | D36: =ROUND('Participant Costs'!F26-'Participant Costs'!F40,0) -> 0 | E36: =ROUND('Participant Costs'!G26-'Participant Costs'!G40,0) -> 0 | F36: =ROUND('Participant Costs'!H26-'Participant Costs'!H40,0) -> 0 | G36: =ROUND(SUM(B36:F36),0) -> 0
A37: Tuition Remission | B37: =ROUND(Tuition!D26-Tuition!D40,0) -> 0 | C37: =ROUND(Tuition!E26-Tuition!E40,0) -> 0 | D37: =ROUND(Tuition!F26-Tuition!F40,0) -> 0 | E37: =ROUND(Tuition!G26-Tuition!G40,0) -> 0 | F37: =ROUND(Tuition!H26-Tuition!H40,0) -> 0 | G37: =ROUND(SUM(B37:F37),0) -> 0
A38: Other Direct Cost | B38: =ROUND('Other DC'!D26-'Other DC'!D40,0) -> 0 | C38: =ROUND('Other DC'!E26-'Other DC'!E40,0) -> 0 | D38: =ROUND('Other DC'!F26-'Other DC'!F40,0) -> 0 | E38: =ROUND('Other DC'!G26-'Other DC'!G40,0) -> 0 | F38: =ROUND('Other DC'!H26-'Other DC'!H40,0) -> 0 | G38: =ROUND(SUM(B38:F38),0) -> 0
A39: Subtotal Other Direct Cost | B39: =ROUND(SUM(B29:B38)-B31-B32,0) -> 0 | C39: =ROUND(SUM(C29:C38)-C31-C32,0) -> 0 | D39: =ROUND(SUM(D29:D38)-D31-D32,0) -> 0 | E39: =ROUND(SUM(E29:E38)-E31-E32,0) -> 0 | F39: =ROUND(SUM(F29:F38)-F31-F32,0) -> 0 | G39: =ROUND(SUM(B39:F39),0) -> 0
A40: Subtotal Direct Cost | B40: =ROUND(B39+B26+B18,0) -> 0 | C40: =ROUND(C39+C26+C18,0) -> 0 | D40: =ROUND(D39+D26+D18,0) -> 0 | E40: =ROUND(E39+E26+E18,0) -> 0 | F40: =ROUND(F39+F26+F18,0) -> 0 | G40: =ROUND(SUM(B40:F40),0) -> 0
A41: Subcontracts, < $25,000 | B41: =ROUND(Subcontracts!D39,0) -> 0 | C41: =ROUND(Subcontracts!E39,0) -> 0 | D41: =ROUND(Subcontracts!F39,0) -> 0 | E41: =ROUND(Subcontracts!G39,0) -> 0 | F41: =ROUND(Subcontracts!H39,0) -> 0 | G41: =ROUND(SUM(B41:F41),0) -> 0
A42: Subcontracts, > $25,000 | B42: =ROUND(Subcontracts!D40,0) -> 0 | C42: =ROUND(Subcontracts!E40,0) -> 0 | D42: =ROUND(Subcontracts!F40,0) -> 0 | E42: =ROUND(Subcontracts!G40,0) -> 0 | F42: =ROUND(Subcontracts!H40,0) -> 0 | G42: =ROUND(SUM(B42:F42),0) -> 0
A43: Subtotal Subcontracts | B43: =ROUND(SUM(B41:B42),0) -> 0 | C43: =ROUND(SUM(C41:C42),0) -> 0 | D43: =ROUND(SUM(D41:D42),0) -> 0 | E43: =ROUND(SUM(E41:E42),0) -> 0 | F43: =ROUND(SUM(F41:F42),0) -> 0 | G43: =ROUND(SUM(B43:F43),0) -> 0
...

Sheet Cost Share
B1: Cost Share Summary
A2: Principal Investigator | B2: ='Sponsor Cost'!B2 -> 0
A3: Project Title | B3: ='Sponsor Cost'!B3:G3 -> 0
A4: Sponsor | B4: ='Sponsor Cost'!B4:E4 -> 0
A5: Prime Sponsor | B5: ='Sponsor Cost'!B5:E5 -> 0
A6: Period of Performance | B6: Start | C6: ='Sponsor Cost'!C6 -> 0 | D6: End | E6: ='Sponsor Cost'!E6 -> 0
A7: Box No. | B7: ='Sponsor Cost'!C7 -> 0
A8: **Departmental Cost Sharing Account**
I9: Year 1 | K9: Year 2 | M9: Year 3 | O9: Year 4 | Q9: Year 5 | S9: Total
A10: Budget Period | B10: Year 1 | C10: Year 2 | D10: Year 3 | E10: Year 4 | F10: Year 5 | G10: Total Cost | I10: Baylor Cost Share | J10: Sponsor Cost Share | K10: Baylor Cost Share | L10: Sponsor Cost Share | M10: Baylor Cost Share | N10: Sponsor Cost Share | O10: Baylor Cost Share | P10: Sponsor Cost Share | Q10: Baylor Cost Share | R10: Sponsor Cost Share | S10: Baylor Cost Share | T10: Sponsor Cost Share
A11: Start | B11: =C6 -> 0 | C11: =EDATE(B11,12) -> 366 | D11: =EDATE(C11,12) -> 731 | E11: =EDATE(D11,12) -> 1096 | F11: =EDATE(E11,12) -> 1461
A12: End | B12: =C11-1 -> 365 | C12: =D11-1 -> 730 | D12: =E11-1 -> 1095 | E12: =F11-1 -> 1460 | F12: =EDATE(F11,12)-1 -> 1826
A13: Labor Dollars
A14: Contract Faculty - Research | B14: =ROUND('Labor Detail'!B84+'Labor Detail'!T36,0) -> 0 | C14: =ROUND('Labor Detail'!C84+'Labor Detail'!U36,0) -> 0 | D14: =ROUND('Labor Detail'!D84+'Labor Detail'!V36,0) -> 0 | E14: =ROUND('Labor Detail'!E84+'Labor Detail'!W36,0) -> 0 | F14: =ROUND('Labor Detail'!F84+'Labor Detail'!X36,0) -> 0 | G14: =SUM(B14:F14) -> 0
A15: F/T Regular Employee (Staff) | B15: =ROUND('Labor Detail'!B93,0) -> 0 | C15: =ROUND('Labor Detail'!C93,0) -> 0 | D15: =ROUND('Labor Detail'!D93,0) -> 0 | E15: =ROUND('Labor Detail'!E93,0) -> 0 | F15: =ROUND('Labor Detail'!F93,0) -> 0 | G15: =SUM(B15:F15) -> 0
A16: Hourly / Undergrad | B16: =ROUND('Labor Detail'!B99,0) -> 0 | C16: =ROUND('Labor Detail'!C99,0) -> 0 | D16: =ROUND('Labor Detail'!D99,0) -> 0 | E16: =ROUND('Labor Detail'!E99,0) -> 0 | F16: =ROUND('Labor Detail'!F99,0) -> 0 | G16: =SUM(B16:F16) -> 0
A17: Post-Doc | B17: =ROUND('Labor Detail'!B105,0) -> 0 | C17: =ROUND('Labor Detail'!C105,0) -> 0 | D17: =ROUND('Labor Detail'!D105,0) -> 0 | E17: =ROUND('Labor Detail'!E105,0) -> 0 | F17: =ROUND('Labor Detail'!F105,0) -> 0 | G17: =SUM(B17:F17) -> 0
A18: GRA | B18: =ROUND('Labor Detail'!B111,0) -> 0 | C18: =ROUND('Labor Detail'!C111,0) -> 0 | D18: =ROUND('Labor Detail'!D111,0) -> 0 | E18: =ROUND('Labor Detail'!E111,0) -> 0 | F18: =ROUND('Labor Detail'!F111,0) -> 0 | G18: =SUM(B18:F18) -> 0
A19: Subtotal Labor | B19: =ROUND(SUM(B14:B18),0) -> 0 | C19: =ROUND(SUM(C14:C18),0) -> 0 | D19: =ROUND(SUM(D14:D18),0) -> 0 | E19: =ROUND(SUM(E14:E18),0) -> 0 | F19: =ROUND(SUM(F14:F18),0) -> 0 | G19: =ROUND(SUM(G14:G18),0) -> 0 | H19: Voluntary Committed | I19: =IF($H19="Voluntary Uncommitted",B19,0) -> 0 | J19: =B19-I19 -> 0 | K19: =IF($H19="Voluntary Uncommitted",C19,0) -> 0 | L19: =C19-K19 -> 0 | M19: =IF($H19="Voluntary Uncommitted",D19,0) -> 0 | N19: =D19-M19 -> 0 | O19: =IF($H19="Voluntary Uncommitted",E19,0) -> 0 | P19: =E19-O19 -> 0 | Q19: =IF($H19="Voluntary Uncommitted",F19,0) -> 0 | R19: =F19-Q19 -> 0 | S19: =Q19+O19+M19+K19+I19 -> 0 | T19: =R19+P19+N19+L19+J19 -> 0
A21: Fringe Benefits
A22: Contract Faculty - Research | B22: =ROUND('Labor Detail'!H84+'Labor Detail'!Z36,0) -> 0 | C22: =ROUND('Labor Detail'!I84+'Labor Detail'!AA36,0) -> 0 | D22: =ROUND('Labor Detail'!J84+'Labor Detail'!AB36,0) -> 0 | E22: =ROUND('Labor Detail'!K84+'Labor Detail'!AC36,0) -> 0 | F22: =ROUND('Labor Detail'!L84+'Labor Detail'!AD36,0) -> 0 | G22: =ROUND(SUM(B22:F22),0) -> 0
A23: F/T Regular Employee (Staff) | B23: =ROUND('Labor Detail'!H93,0) -> 0 | C23: =ROUND('Labor Detail'!I93,0) -> 0 | D23: =ROUND('Labor Detail'!J93,0) -> 0 | E23: =ROUND('Labor Detail'!K93,0) -> 0 | F23: =ROUND('Labor Detail'!L93,0) -> 0 | G23: =ROUND(SUM(B23:F23),0) -> 0
A24: Hourly / Undergrad | B24: =ROUND('Labor Detail'!H99,0) -> 0 | C24: =ROUND('Labor Detail'!I99,0) -> 0 | D24: =ROUND('Labor Detail'!J99,0) -> 0 | E24: =ROUND('Labor Detail'!K99,0) -> 0 | F24: =ROUND('Labor Detail'!L99,0) -> 0 | G24: =SUM(B24:F24) -> 0
A25: Post Doc | B25: =ROUND('Labor Detail'!H105,0) -> 0 | C25: =ROUND('Labor Detail'!I105,0) -> 0 | D25: =ROUND('Labor Detail'!J105,0) -> 0 | E25: =ROUND('Labor Detail'!K105,0) -> 0 | F25: =ROUND('Labor Detail'!L105,0) -> 0 | G25: =SUM(B25:F25) -> 0
A26: GRA | B26: =ROUND('Labor Detail'!H111,0) -> 0 | C26: =ROUND('Labor Detail'!I111,0) -> 0 | D26: =ROUND('Labor Detail'!J111,0) -> 0 | E26: =ROUND('Labor Detail'!K111,0) -> 0 | F26: =ROUND('Labor Detail'!L111,0) -> 0 | G26: =SUM(B26:F26) -> 0
A27: Subtotal Fringe Benefits | B27: =ROUND(SUM(B22:B26),0) -> 0 | C27: =ROUND(SUM(C22:C26),0) -> 0 | D27: =ROUND(SUM(D22:D26),0) -> 0 | E27: =ROUND(SUM(E22:E26),0) -> 0 | F27: =ROUND(SUM(F22:F26),0) -> 0 | G27: =ROUND(SUM(G22:G26),0) -> 0 | H27: Voluntary Committed | I27: =IF($H27="Voluntary Uncommitted",B27,0) -> 0 | J27: =B27-I27 -> 0 | K27: =IF($H27="Voluntary Uncommitted",C27,0) -> 0 | L27: =C27-K27 -> 0 | M27: =IF($H27="Voluntary Uncommitted",D27,0) -> 0 | N27: =D27-M27 -> 0 | O27: =IF($H27="Voluntary Uncommitted",E27,0) -> 0 | P27: =E27-O27 -> 0 | Q27: =IF($H27="Voluntary Uncommitted",F27,0) -> 0 | R27: =F27-Q27 -> 0 | S27: =Q27+O27+M27+K27+I27 -> 0 | T27: =R27+P27+N27+L27+J27 -> 0
A29: Other Direct Cost
A30: Equipment | B30: =ROUND(Equipment!D40,0) -> 0 | C30: =ROUND(Equipment!E40,0) -> 0 | D30: =ROUND(Equipment!F40,0) -> 0 | E30: =ROUND(Equipment!G40,0) -> 0 | F30: =ROUND(Equipment!H40,0) -> 0 | G30: =ROUND(SUM(B30:F30),0) -> 0 | I30: =IF($H30="Voluntary Uncommitted",B30,0) -> 0 | J30: =B30-I30 -> 0 | K30: =IF($H30="Voluntary Uncommitted",C30,0) -> 0 | L30: =C30-K30 -> 0 | M30: =IF($H30="Voluntary Uncommitted",D30,0) -> 0 | N30: =D30-M30 -> 0 | O30: =IF($H30="Voluntary Uncommitted",E30,0) -> 0 | P30: =E30-O30 -> 0 | Q30: =IF($H30="Voluntary Uncommitted",F30,0) -> 0 | R30: =F30-Q30 -> 0 | S30: =Q30+O30+M30+K30+I30 -> 0 | T30: =R30+P30+N30+L30+J30 -> 0
A31: Travel | B31: =ROUND(Travel!E19,0) -> 0 | C31: =ROUND(Travel!F19,0) -> 0 | D31: =ROUND(Travel!G19,0) -> 0 | E31: =ROUND(Travel!H19,0) -> 0 | F31: =ROUND(Travel!I19,0) -> 0 | G31: =ROUND(SUM(B31:F31),0) -> 0 | I31: =IF($H31="Voluntary Uncommitted",B31,0) -> 0 | J31: =B31-I31 -> 0 | K31: =IF($H31="Voluntary Uncommitted",C31,0) -> 0 | L31: =C31-K31 -> 0 | M31: =IF($H31="Voluntary Uncommitted",D31,0) -> 0 | N31: =D31-M31 -> 0 | O31: =IF($H31="Voluntary Uncommitted",E31,0) -> 0 | P31: =E31-O31 -> 0 | Q31: =IF($H31="Voluntary Uncommitted",F31,0) -> 0 | R31: =F31-Q31 -> 0 | S31: =Q31+O31+M31+K31+I31 -> 0 | T31: =R31+P31+N31+L31+J31 -> 0
A32: Honorariums | B32: =ROUND(Honorarium!D40,0) -> 0 | C32: =ROUND(Honorarium!E40,0) -> 0 | D32: =ROUND(Honorarium!F40,0) -> 0 | E32: =ROUND(Honorarium!G40,0) -> 0 | F32: =ROUND(Honorarium!H40,0) -> 0 | G32: =ROUND(SUM(B32:F32),0) -> 0 | I32: =IF($H32="Voluntary Uncommitted",B32,0) -> 0 | J32: =B32-I32 -> 0 | K32: =IF($H32="Voluntary Uncommitted",C32,0) -> 0 | L32: =C32-K32 -> 0 | M32: =IF($H32="Voluntary Uncommitted",D32,0) -> 0 | N32: =D32-M32 -> 0 | O32: =IF($H32="Voluntary Uncommitted",E32,0) -> 0 | P32: =E32-O32 -> 0 | Q32: =IF($H32="Voluntary Uncommitted",F32,0) -> 0 | R32: =F32-Q32 -> 0 | S32: =Q32+O32+M32+K32+I32 -> 0 | T32: =R32+P32+N32+L32+J32 -> 0
A33: Materials and Supplies | B33: =ROUND(Materials!D40,0) -> 0 | C33: =ROUND(Materials!E40,0) -> 0 | D33: =ROUND(Materials!F40,0) -> 0 | E33: =ROUND(Materials!G40,0) -> 0 | F33: =ROUND(Materials!H40,0) -> 0 | G33: =ROUND(SUM(B33:F33),0) -> 0 | I33: =IF($H33="Voluntary Uncommitted",B33,0) -> 0 | J33: =B33-I33 -> 0 | K33: =IF($H33="Voluntary Uncommitted",C33,0) -> 0 | L33: =C33-K33 -> 0 | M33: =IF($H33="Voluntary Uncommitted",D33,0) -> 0 | N33: =D33-M33 -> 0 | O33: =IF($H33="Voluntary Uncommitted",E33,0) -> 0 | P33: =E33-O33 -> 0 | Q33: =IF($H33="Voluntary Uncommitted",F33,0) -> 0 | R33: =F33-Q33 -> 0 | S33: =Q33+O33+M33+K33+I33 -> 0 | T33: =R33+P33+N33+L33+J33 -> 0
A34: Contracted Services/Consulting | B34: =ROUND(Services_Consulting!D40,0) -> 0 | C34: =ROUND(Services_Consulting!E40,0) -> 0 | D34: =ROUND(Services_Consulting!F40,0) -> 0 | E34: =ROUND(Services_Consulting!G40,0) -> 0 | F34: =ROUND(Services_Consulting!H40,0) -> 0 | G34: =ROUND(SUM(B34:F34),0) -> 0 | I34: =IF($H34="Voluntary Uncommitted",B34,0) -> 0 | J34: =B34-I34 -> 0 | K34: =IF($H34="Voluntary Uncommitted",C34,0) -> 0 | L34: =C34-K34 -> 0 | M34: =IF($H34="Voluntary Uncommitted",D34,0) -> 0 | N34: =D34-M34 -> 0 | O34: =IF($H34="Voluntary Uncommitted",E34,0) -> 0 | P34: =E34-O34 -> 0 | Q34: =IF($H34="Voluntary Uncommitted",F34,0) -> 0 | R34: =F34-Q34 -> 0 | S34: =Q34+O34+M34+K34+I34 -> 0 | T34: =R34+P34+N34+L34+J34 -> 0
A35: Participant Support Costs | B35: =ROUND(Services_Consulting!D40,0) -> 0 | C35: =ROUND(Services_Consulting!E40,0) -> 0 | D35: =ROUND(Services_Consulting!F40,0) -> 0 | E35: =ROUND(Services_Consulting!G40,0) -> 0 | F35: =ROUND(Services_Consulting!H40,0) -> 0 | G35: =ROUND(SUM(B35:F35),0) -> 0 | I35: =IF($H35="Voluntary Uncommitted",B35,0) -> 0 | J35: =B35-I35 -> 0 | K35: =IF($H35="Voluntary Uncommitted",C35,0) -> 0 | L35: =C35-K35 -> 0 | M35: =IF($H35="Voluntary Uncommitted",D35,0) -> 0 | N35: =D35-M35 -> 0 | O35: =IF($H35="Voluntary Uncommitted",E35,0) -> 0 | P35: =E35-O35 -> 0 | Q35: =IF($H35="Voluntary Uncommitted",F35,0) -> 0 | R35: =F35-Q35 -> 0 | S35: =Q35+O35+M35+K35+I35 -> 0 | T35: =R35+P35+N35+L35+J35 -> 0
A36: Tuition Remission | B36: =ROUND('Participant Costs'!D40,0) -> 0 | C36: =ROUND('Participant Costs'!E40,0) -> 0 | D36: =ROUND('Participant Costs'!F40,0) -> 0 | E36: =ROUND('Participant Costs'!G40,0) -> 0 | F36: =ROUND('Participant Costs'!H40,0) -> 0 | G36: =ROUND(SUM(B36:F36),0) -> 0 | I36: =IF($H36="Voluntary Uncommitted",B36,0) -> 0 | J36: =B36-I36 -> 0 | K36: =IF($H36="Voluntary Uncommitted",C36,0) -> 0 | L36: =C36-K36 -> 0 | M36: =IF($H36="Voluntary Uncommitted",D36,0) -> 0 | N36: =D36-M36 -> 0 | O36: =IF($H36="Voluntary Uncommitted",E36,0) -> 0 | P36: =E36-O36 -> 0 | Q36: =IF($H36="Voluntary Uncommitted",F36,0) -> 0 | R36: =F36-Q36 -> 0 | S36: =Q36+O36+M36+K36+I36 -> 0 | T36: =R36+P36+N36+L36+J36 -> 0
A37: Other Direct Cost | B37: ='Other DC'!D40 -> 0 | C37: ='Other DC'!E40 -> 0 | D37: ='Other DC'!F40 -> 0 | E37: ='Other DC'!G40 -> 0 | F37: ='Other DC'!H40 -> 0 | G37: =ROUND(SUM(B37:F37),0) -> 0 | H37: Voluntary Committed | I37: =IF($H37="Voluntary Uncommitted",B37,0) -> 0 | J37: =B37-I37 -> 0 | K37: =IF($H37="Voluntary Uncommitted",C37,0) -> 0 | L37: =C37-K37 -> 0 | M37: =IF($H37="Voluntary Uncommitted",D37,0) -> 0 | N37: =D37-M37 -> 0 | O37: =IF($H37="Voluntary Uncommitted",E37,0) -> 0 | P37: =E37-O37 -> 0 | Q37: =IF($H37="Voluntary Uncommitted",F37,0) -> 0 | R37: =F37-Q37 -> 0 | S37: =Q37+O37+M37+K37+I37 -> 0 | T37: =R37+P37+N37+L37+J37 -> 0
A38: Subtotal Other Direct Cost | B38: =ROUND(SUM(B30:B37),0) -> 0 | C38: =ROUND(SUM(C30:C37),0) -> 0 | D38: =ROUND(SUM(D30:D37),0) -> 0 | E38: =ROUND(SUM(E30:E37),0) -> 0 | F38: =ROUND(SUM(F30:F37),0) -> 0 | G38: =ROUND(SUM(G30:G37),0) -> 0 | I38: =ROUND(SUM(I30:I37),0) -> 0 | J38: =ROUND(SUM(J30:J37),0) -> 0 | K38: =ROUND(SUM(K30:K37),0) -> 0 | L38: =ROUND(SUM(L30:L37),0) -> 0 | M38: =ROUND(SUM(M30:M37),0) -> 0 | N38: =ROUND(SUM(N30:N37),0) -> 0 | O38: =ROUND(SUM(O30:O37),0) -> 0 | P38: =ROUND(SUM(P30:P37),0) -> 0 | ... T38: =ROUND(SUM(T30:T37),0) -> 0
A39: Subtotal Direct Cost | B39: =ROUND(B38+B27+B19,0) -> 0 | C39: =ROUND(C38+C27+C19,0) -> 0 | D39: =ROUND(D38+D27+D19,0) -> 0 | E39: =ROUND(E38+E27+E19,0) -> 0 | F39: =ROUND(F38+F27+F19,0) -> 0 | G39: =ROUND(G38+G27+G19,0) -> 0 | I39: =ROUND(I38+I27+I19,0) -> 0 | J39: =ROUND(J38+J27+J19,0) -> 0 | K39: =ROUND(K38+K27+K19,0) -> 0 | L39: =ROUND(L38+L27+L19,0) -> 0 | M39: =ROUND(M38+M27+M19,0) -> 0 | N39: =ROUND(N38+N27+N19,0) -> 0 | O39: =ROUND(O38+O27+O19,0) -> 0 | P39: =ROUND(P38+P27+P19,0) -> 0 | ... T39: =ROUND(T38+T27+T19,0) -> 0
A40: Subcontracts, < $25,000 | B40: 0 | C40: 0 | D40: 0 | E40: 0 | F40: 0 | G40: =SUM(B40:F40) -> 0
A41: Subcontracts, > $25,000 | B41: 0 | C41: 0 | D41: 0 | E41: 0 | F41: 0 | G41: =SUM(B41:F41) -> 0
A42: Subtotal Subcontracts | B42: =SUM(B40:B41) -> 0 | C42: =SUM(C40:C41) -> 0 | D42: =SUM(D40:D41) -> 0 | E42: =SUM(E40:E41) -> 0 | F42: =SUM(F40:F41) -> 0 | G42: =SUM(G40:G41) -> 0
...

Sheet Personnel
C2: Salary Cap | D2: No | E2: 0 | F2: Person Months
A3: Name | B3: Key Personnel | C3: Type of Month | D3: Current IBS | E3: Appoint | F3: ='Sponsor Cost'!B10 -> 0 | G3: ='Sponsor Cost'!C10 -> 366 | H3: ='Sponsor Cost'!D10 -> 731 | I3: ='Sponsor Cost'!E10 -> 1096 | J3: ='Sponsor Cost'!F10 -> 1461
A4: Faculty
B5: Yes | D5: 0 | E5: 9 | F5: 0 | G5: 0 | H5: 0 | I5: 0 | J5: 0
D6: 0 | E6: 9 | F6: 0 | G6: 0 | H6: 0 | I6: 0 | J6: 0
D7: 0 | E7: 9 | F7: 0 | G7: 0 | H7: 0 | I7: 0 | J7: 0
D8: 0 | E8: 9 | F8: 0 | G8: 0 | H8: 0 | I8: 0 | J8: 0
D9: 0 | E9: 9 | F9: 0 | G9: 0 | H9: 0 | I9: 0 | J9: 0
D10: 0 | E10: 9 | F10: 0 | G10: 0 | H10: 0 | I10: 0 | J10: 0
D11: 0 | E11: 9 | F11: 0 | G11: 0 | H11: 0 | I11: 0 | J11: 0
D12: 0 | E12: 9 | F12: 0 | G12: 0 | H12: 0 | I12: 0 | J12: 0
D13: 0 | E13: 9 | F13: 0 | G13: 0 | H13: 0 | I13: 0 | J13: 0
D14: 0 | E14: 9 | F14: 0 | G14: 0 | H14: 0 | I14: 0 | J14: 0
D15: 0 | E15: 9 | F15: 0 | G15: 0 | H15: 0 | I15: 0 | J15: 0
C16: Cal | D16: =IF(A16>0,(VLOOKUP($A16,'Rate Table'!$A$3:$B$103,2,FALSE)),0)/10*12 -> 0 | F16: 0 | G16: 0 | H16: 0 | I16: 0 | J16: 0
C17: Cal | D17: =IF(A17>0,(VLOOKUP($A17,'Rate Table'!$A$3:$B$103,2,FALSE)),0)/10*12 -> 0 | F17: 0 | G17: 0 | H17: 0 | I17: 0 | J17: 0
C18: Cal | D18: =IF(A18>0,(VLOOKUP($A18,'Rate Table'!$A$3:$B$103,2,FALSE)),0)/10*12 -> 0 | F18: 0 | G18: 0 | H18: 0 | I18: 0 | J18: 0
C19: Cal | D19: =IF(A19>0,(VLOOKUP($A19,'Rate Table'!$A$3:$B$103,2,FALSE)),0)/10*12 -> 0 | F19: 0 | G19: 0 | H19: 0 | I19: 0 | J19: 0
C20: Cal | D20: =IF(A20>0,(VLOOKUP($A20,'Rate Table'!$A$3:$B$103,2,FALSE)),0)/10*12 -> 0 | F20: 0 | G20: 0 | H20: 0 | I20: 0 | J20: 0
C21: Cal | D21: =IF(A21>0,(VLOOKUP($A21,'Rate Table'!$A$3:$B$103,2,FALSE)),0)/10*12 -> 0 | F21: 0 | G21: 0 | H21: 0 | I21: 0 | J21: 0
C22: Cal | D22: =IF(A22>0,(VLOOKUP($A22,'Rate Table'!$A$3:$B$103,2,FALSE)),0)/10*12 -> 0 | F22: 0 | G22: 0 | H22: 0 | I22: 0 | J22: 0
C23: Cal | D23: =IF(A23>0,(VLOOKUP($A23,'Rate Table'!$A$3:$B$103,2,FALSE)),0)/10*12 -> 0 | F23: 0 | G23: 0 | H23: 0 | I23: 0 | J23: 0
C24: Cal | D24: =IF(A24>0,(VLOOKUP($A24,'Rate Table'!$A$3:$B$103,2,FALSE)),0)/10*12 -> 0 | F24: 0 | G24: 0 | H24: 0 | I24: 0 | J24: 0
C25: Cal | D25: =IF(A25>0,(VLOOKUP($A25,'Rate Table'!$A$3:$B$103,2,FALSE)),0)/10*12 -> 0 | F25: 0 | G25: 0 | H25: 0 | I25: 0 | J25: 0
C26: Cal | D26: =IF(A26>0,(VLOOKUP($A26,'Rate Table'!$A$3:$B$103,2,FALSE)),0)/10*12 -> 0 | F26: 0 | G26: 0 | H26: 0 | I26: 0 | J26: 0
C27: Acad | D27: =IF(A27>0,(VLOOKUP($A27,'Rate Table'!$A$3:$B$103,2,FALSE)),0)/10*12 -> 0 | F27: 0 | G27: 0 | H27: 0 | I27: 0 | J27: 0
C28: Cal | D28: =IF(A28>0,(VLOOKUP($A28,'Rate Table'!$A$3:$B$103,2,FALSE)),0)/10*12 -> 0 | F28: 0 | G28: 0 | H28: 0 | I28: 0 | J28: 0
C29: Cal | D29: =IF(A29>0,(VLOOKUP($A29,'Rate Table'!$A$3:$B$103,2,FALSE)),0)/10*12 -> 0 | I29: 0 | J29: 0
C30: Cal | D30: =IF(A30>0,(VLOOKUP($A30,'Rate Table'!$A$3:$B$103,2,FALSE)),0)/10*12 -> 0 | F30: 0 | G30: 0 | H30: 0 | I30: 0 | J30: 0
C31: Cal | D31: =IF(A31>0,(VLOOKUP($A31,'Rate Table'!$A$3:$B$103,2,FALSE)),0)/10*12 -> 0 | F31: 0 | G31: 0 | H31: 0 | I31: 0 | J31: 0
C32: Cal | D32: =IF(A32>0,(VLOOKUP($A32,'Rate Table'!$A$3:$B$103,2,FALSE)),0)/10*12 -> 0 | F32: 0 | G32: 0 | H32: 0 | I32: 0 | J32: 0
C33: Cal | D33: =IF(A33>0,(VLOOKUP($A33,'Rate Table'!$A$3:$B$103,2,FALSE)),0)/10*12 -> 0 | F33: 0 | G33: 0 | H33: 0 | I33: 0 | J33: 0
C34: Cal | D34: =IF(A34>0,(VLOOKUP($A34,'Rate Table'!$A$3:$B$103,2,FALSE)),0)/10*12 -> 0 | F34: 0 | G34: 0 | H34: 0 | I34: 0 | J34: 0
C35: Cal | D35: =IF(A35>0,(VLOOKUP($A35,'Rate Table'!$A$3:$B$103,2,FALSE)),0)/10*12 -> 0 | F35: 0 | G35: 0 | H35: 0 | I35: 0 | J35: 0
A36: Subtotal | F36: =SUM(F5:F35) -> 0 | G36: =SUM(G5:G35) -> 0 | H36: =SUM(H5:H35) -> 0 | I36: =SUM(I5:I35) -> 0 | J36: =SUM(J5:J35) -> 0
A37: F/T Regular Employee (Staff)
D38: 0 | F38: 0 | G38: 0 | H38: 0 | I38: 0 | J38: 0
D39: 0 | F39: 0 | G39: 0 | H39: 0 | I39: 0 | J39: 0
D40: 0 | F40: 0 | G40: 0 | H40: 0 | I40: 0 | J40: 0
D41: 0 | F41: 0 | G41: 0 | H41: 0 | I41: 0 | J41: 0
...

Sheet IBS Calculator
A1: Labor Category | B1: Rate of Pay | C1: Frequency | D1: IBS
A2: Faculty | B2: 84500 | C2: Academic | D2: =IF(C2="Hour",B2*2080,IF(C2="Semester",(B2/5)*10,IF(C2="Academic",B2/10*12,IF(C2="Calendar",B2,IF(C2="Monthly",B2*12,0))))) -> 101400
A3: Staff | B3: 45000 | C3: Academic | D3: =IF(C3="Hour",B3*2080,IF(C3="Semester",(B3/5)*10,IF(C3="Academic",B3/10*12,IF(C3="Calendar",B3,IF(C3="Monthly",B3*12,0))))) -> 54000
A4: Student | B4: 4000 | C4: Semester | D4: =IF(C4="Hour",B4*2080,IF(C4="Semester",(B4/5)*10,IF(C4="Academic",B4/10*12,IF(C4="Calendar",B4,IF(C4="Monthly",B4*12,0))))) -> 8000
A5: PostDoc | B5: 46470 | C5: Academic | D5: =IF(C5="Hour",B5*2080,IF(C5="Semester",(B5/5)*10,IF(C5="Academic",B5/10*12,IF(C5="Calendar",B5,IF(C5="Monthly",B5*12,0))))) -> 55764
A6: P/T Hourly | B6: 15 | C6: Academic | D6: =IF(C6="Hour",B6*2080,IF(C6="Semester",(B6/5)*10,IF(C6="Academic",B6/10*12,IF(C6="Calendar",B6,IF(C6="Monthly",B6*12,0))))) -> 18
B10: Faculty | C10: Hour
B11: Staff | C11: Semester
B12: Student | C12: Academic
B13: PostDoc | C13: Calendar
B14: P/T Hourly | C14: Monthly

Sheet Labor Detail
B1: Labor Dollars | H1: Fringe Benefits | N1: Estimated Labor Hours | T1: Over The Cap (OTC) Salary | Z1: OTC Fringe Benefits
A3: Name | B3: ='Sponsor Cost'!B9 -> Year 1 | C3: ='Sponsor Cost'!C9 -> Year 2 | D3: ='Sponsor Cost'!D9 -> Year 3 | E3: ='Sponsor Cost'!E9 -> Year 4 | F3: ='Sponsor Cost'!F9 -> Year 5 | H3: ='Sponsor Cost'!B9 -> Year 1 | I3: ='Sponsor Cost'!C9 -> Year 2 | J3: ='Sponsor Cost'!D9 -> Year 3 | K3: ='Sponsor Cost'!E9 -> Year 4 | L3: ='Sponsor Cost'!F9 -> Year 5 | N3: =H3 -> Year 1 | O3: =I3 -> Year 2 | P3: =J3 -> Year 3 | Q3: =K3 -> Year 4 | R3: =L3 -> Year 5 | T3: ='FTE Table'!B3 -> Year 1 | U3: ='FTE Table'!C3 -> Year 2 | V3: ='FTE Table'!D3 -> Year 3 | W3: ='FTE Table'!E3 -> Year 4 | X3: ='FTE Table'!F3 -> Year 5 | Z3: =T3 -> Year 1 | AA3: =U3 -> Year 2 | AB3: =V3 -> Year 3 | AC3: =W3 -> Year 4 | AD3: =X3 -> Year 5
B4: Contract Faculty - Research
A5: =IF(Personnel!C5="Cost Share","",Personnel!A5) -> 0 | B5: =ROUND(IF(Personnel!$C5="Cost Share",0,IF(Personnel!$D$2="No",(Personnel!F5/Personnel!$E5)*Personnel!$D5*Personnel!F$74,IF((Personnel!$D5*Personnel!F$74)<Salary_Cap,(Personnel!F5/Personnel!$E5)*Personnel!$D5*Personnel!F$74,(Personnel!F5/Personnel!$E5)*Salary_Cap))),0) -> 0 | C5: =ROUND(IF(Personnel!$C5="Cost Share",0,IF(Personnel!$D$2="No",(Personnel!G5/Personnel!$E5)*Personnel!$D5*Personnel!G$74,IF((Personnel!$D5*Personnel!G$74)<Salary_Cap,(Personnel!G5/Personnel!$E5)*Personnel!$D5*Personnel!G$74,(Personnel!G5/Personnel!$E5)*Salary_Cap))),0) -> 0 | D5: =ROUND(IF(Personnel!$C5="Cost Share",0,IF(Personnel!$D$2="No",(Personnel!H5/Personnel!$E5)*Personnel!$D5*Personnel!H$74,IF((Personnel!$D5*Personnel!H$74)<Salary_Cap,(Personnel!H5/Personnel!$E5)*Personnel!$D5*Personnel!H$74,(Personnel!H5/Personnel!$E5)*Salary_Cap))),0) -> 0 | E5: =ROUND(IF(Personnel!$C5="Cost Share",0,IF(Personnel!$D$2="No",(Personnel!I5/Personnel!$E5)*Personnel!$D5*Personnel!I$74,IF((Personnel!$D5*Personnel!I$74)<Salary_Cap,(Personnel!I5/Personnel!$E5)*Personnel!$D5*Personnel!I$74,(Personnel!I5/Personnel!$E5)*Salary_Cap))),0) -> 0 | F5: =ROUND(IF(Personnel!$C5="Cost Share",0,IF(Personnel!$D$2="No",(Personnel!J5/Personnel!$E5)*Personnel!$D5*Personnel!J$74,IF((Personnel!$D5*Personnel!J$74)<Salary_Cap,(Personnel!J5/Personnel!$E5)*Personnel!$D5*Personnel!J$74,(Personnel!J5/Personnel!$E5)*Salary_Cap))),0) -> 0 | H5: =ROUND(IF(Personnel!$C5<>"Sum",B5*'Rate Table'!$E$3,'Labor Detail'!B5*'Rate Table'!$E$7),0) -> 0 | I5: =ROUND(IF(Personnel!$C5<>"Sum",C5*'Rate Table'!$E$3,'Labor Detail'!C5*'Rate Table'!$E$7),0) -> 0 | J5: =ROUND(IF(Personnel!$C5<>"Sum",D5*'Rate Table'!$E$3,'Labor Detail'!D5*'Rate Table'!$E$7),0) -> 0 | K5: =ROUND(IF(Personnel!$C5<>"Sum",E5*'Rate Table'!$E$3,'Labor Detail'!E5*'Rate Table'!$E$7),0) -> 0 | L5: =ROUND(IF(Personnel!$C5<>"Sum",F5*'Rate Table'!$E$3,'Labor Detail'!F5*'Rate Table'!$E$7),0) -> 0 | N5: =IF(Personnel!$C5="Cost Share",0,2080*'FTE Table'!B5) -> 0 | O5: =IF(Personnel!$C5="Cost Share",0,2080*'FTE Table'!C5) -> 0 | P5: =IF(Personnel!$C5="Cost Share",0,2080*'FTE Table'!D5) -> 0 | Q5: =IF(Personnel!$C5="Cost Share",0,2080*'FTE Table'!E5) -> 0 | R5: =IF(Personnel!$C5="Cost Share",0,2080*'FTE Table'!F5) -> 0 | T5: =IF(Personnel!$C5="Cost Share",0,IF(Personnel!$D$2="yes",IF(Personnel!$D5*Personnel!F$74>Salary_Cap,(Personnel!$D5*'FTE Table'!B5*Personnel!F$74)-('FTE Table'!B5*Salary_Cap),0),0)) -> 0 | U5: =IF(Personnel!$C5="Cost Share",0,IF(Personnel!$D$2="yes",IF(Personnel!$D5*Personnel!G$74>Salary_Cap,(Personnel!$D5*'FTE Table'!C5*Personnel!G$74)-('FTE Table'!C5*Salary_Cap),0),0)) -> 0 | V5: =IF(Personnel!$C5="Cost Share",0,IF(Personnel!$D$2="yes",IF(Personnel!$D5*Personnel!H$74>Salary_Cap,(Personnel!$D5*'FTE Table'!D5*Personnel!H$74)-('FTE Table'!D5*Salary_Cap),0),0)) -> 0 | W5: =IF(Personnel!$C5="Cost Share",0,IF(Personnel!$D$2="yes",IF(Personnel!$D5*Personnel!I$74>Salary_Cap,(Personnel!$D5*'FTE Table'!E5*Personnel!I$74)-('FTE Table'!E5*Salary_Cap),0),0)) -> 0 | X5: =IF(Personnel!$C5="Cost Share",0,IF(Personnel!$D$2="yes",IF(Personnel!$D5*Personnel!J$74>Salary_Cap,(Personnel!$D5*'FTE Table'!F5*Personnel!J$74)-('FTE Table'!F5*Salary_Cap),0),0)) -> 0 | Z5: =IF(Personnel!$C5="Cost Share",0,IF(T5>0,IF(Personnel!$C5<>"Sum",(T5*0.22883)+('FTE Table'!B5*5659),(T5*0.22883)),0)) -> 0 | AA5: =IF(Personnel!$C5="Cost Share",0,IF(U5>0,IF(Personnel!$C5<>"Sum",(U5*0.22883)+('FTE Table'!C5*5659),(U5*0.22883)),0)) -> 0 | AB5: =IF(Personnel!$C5="Cost Share",0,IF(V5>0,IF(Personnel!$C5<>"Sum",(V5*0.22883)+('FTE Table'!D5*5659),(V5*0.22883)),0)) -> 0 | AC5: =IF(Personnel!$C5="Cost Share",0,IF(W5>0,IF(Personnel!$C5<>"Sum",(W5*0.22883)+('FTE Table'!E5*5659),(W5*0.22883)),0)) -> 0 | AD5: =IF(Personnel!$C5="Cost Share",0,IF(X5>0,IF(Personnel!$C5<>"Sum",(X5*0.22883)+('FTE Table'!F5*5659),(X5*0.22883)),0)) -> 0
A6: =IF(Personnel!C6="Cost Share","",Personnel!A6) -> 0 | B6: =ROUND(IF(Personnel!$C6="Cost Share",0,IF(Personnel!$D$2="No",(Personnel!F6/Personnel!$E6)*Personnel!$D6*Personnel!F$74,IF((Personnel!$D6*Personnel!F$74)<Salary_Cap,(Personnel!F6/Personnel!$E6)*Personnel!$D6*Personnel!F$74,(Personnel!F6/Personnel!$E6)*Salary_Cap))),0) -> 0 | C6: =ROUND(IF(Personnel!$C6="Cost Share",0,IF(Personnel!$D$2="No",(Personnel!G6/Personnel!$E6)*Personnel!$D6*Personnel!G$74,IF((Personnel!$D6*Personnel!G$74)<Salary_Cap,(Personnel!G6/Personnel!$E6)*Personnel!$D6*Personnel!G$74,(Personnel!G6/Personnel!$E6)*Salary_Cap))),0) -> 0 | D6: =ROUND(IF(Personnel!$C6="Cost Share",0,IF(Personnel!$D$2="No",(Personnel!H6/Personnel!$E6)*Personnel!$D6*Personnel!H$74,IF((Personnel!$D6*Personnel!H$74)<Salary_Cap,(Personnel!H6/Personnel!$E6)*Personnel!$D6*Personnel!H$74,(Personnel!H6/Personnel!$E6)*Salary_Cap))),0) -> 0 | E6: =ROUND(IF(Personnel!$C6="Cost Share",0,IF(Personnel!$D$2="No",(Personnel!I6/Personnel!$E6)*Personnel!$D6*Personnel!I$74,IF((Personnel!$D6*Personnel!I$74)<Salary_Cap,(Personnel!I6/Personnel!$E6)*Personnel!$D6*Personnel!I$74,(Personnel!I6/Personnel!$E6)*Salary_Cap))),0) -> 0 | F6: =ROUND(IF(Personnel!$C6="Cost Share",0,IF(Personnel!$D$2="No",(Personnel!J6/Personnel!$E6)*Personnel!$D6*Personnel!J$74,IF((Personnel!$D6*Personnel!J$74)<Salary_Cap,(Personnel!J6/Personnel!$E6)*Personnel!$D6*Personnel!J$74,(Personnel!J6/Personnel!$E6)*Salary_Cap))),0) -> 0 | H6: =ROUND(IF(Personnel!$C6<>"Sum",B6*'Rate Table'!$E$3,'Labor Detail'!B6*'Rate Table'!$E$7),0) -> 0 | I6: =ROUND(IF(Personnel!$C6<>"Sum",C6*'Rate Table'!$E$3,'Labor Detail'!C6*'Rate Table'!$E$7),0) -> 0 | J6: =ROUND(IF(Personnel!$C6<>"Sum",D6*'Rate Table'!$E$3,'Labor Detail'!D6*'Rate Table'!$E$7),0) -> 0 | K6: =ROUND(IF(Personnel!$C6<>"Sum",E6*'Rate Table'!$E$3,'Labor Detail'!E6*'Rate Table'!$E$7),0) -> 0 | L6: =ROUND(IF(Personnel!$C6<>"Sum",F6*'Rate Table'!$E$3,'Labor Detail'!F6*'Rate Table'!$E$7),0) -> 0 | N6: =IF(Personnel!$C6="Cost Share",0,2080*'FTE Table'!B6) -> 0 | O6: =IF(Personnel!$C6="Cost Share",0,2080*'FTE Table'!C6) -> 0 | P6: =IF(Personnel!$C6="Cost Share",0,2080*'FTE Table'!D6) -> 0 | Q6: =IF(Personnel!$C6="Cost Share",0,2080*'FTE Table'!E6) -> 0 | R6: =IF(Personnel!$C6="Cost Share",0,2080*'FTE Table'!F6) -> 0 | T6: =IF(Personnel!$C6="Cost Share",0,IF(Personnel!$D$2="yes",IF(Personnel!$D6*Personnel!F$74>Salary_Cap,(Personnel!$D6*'FTE Table'!B6*Personnel!F$74)-('FTE Table'!B6*Salary_Cap),0),0)) -> 0 | U6: =IF(Personnel!$C6="Cost Share",0,IF(Personnel!$D$2="yes",IF(Personnel!$D6*Personnel!G$74>Salary_Cap,(Personnel!$D6*'FTE Table'!C6*Personnel!G$74)-('FTE Table'!C6*Salary_Cap),0),0)) -> 0 | V6: =IF(Personnel!$C6="Cost Share",0,IF(Personnel!$D$2="yes",IF(Personnel!$D6*Personnel!H$74>Salary_Cap,(Personnel!$D6*'FTE Table'!D6*Personnel!H$74)-('FTE Table'!D6*Salary_Cap),0),0)) -> 0 | W6: =IF(Personnel!$C6="Cost Share",0,IF(Personnel!$D$2="yes",IF(Personnel!$D6*Personnel!I$74>Salary_Cap,(Personnel!$D6*'FTE Table'!E6*Personnel!I$74)-('FTE Table'!E6*Salary_Cap),0),0)) -> 0 | X6: =IF(Personnel!$C6="Cost Share",0,IF(Personnel!$D$2="yes",IF(Personnel!$D6*Personnel!J$74>Salary_Cap,(Personnel!$D6*'FTE Table'!F6*Personnel!J$74)-('FTE Table'!F6*Salary_Cap),0),0)) -> 0 | Z6: =IF(Personnel!$C6="Cost Share",0,IF(T6>0,IF(Personnel!$C6<>"Sum",(T6*0.22883)+('FTE Table'!B6*5659),(T6*0.22883)),0)) -> 0 | AA6: =IF(Personnel!$C6="Cost Share",0,IF(U6>0,IF(Personnel!$C6<>"Sum",(U6*0.22883)+('FTE Table'!C6*5659),(U6*0.22883)),0)) -> 0 | AB6: =IF(Personnel!$C6="Cost Share",0,IF(V6>0,IF(Personnel!$C6<>"Sum",(V6*0.22883)+('FTE Table'!D6*5659),(V6*0.22883)),0)) -> 0 | AC6: =IF(Personnel!$C6="Cost Share",0,IF(W6>0,IF(Personnel!$C6<>"Sum",(W6*0.22883)+('FTE Table'!E6*5659),(W6*0.22883)),0)) -> 0 | AD6: =IF(Personnel!$C6="Cost Share",0,IF(X6>0,IF(Personnel!$C6<>"Sum",(X6*0.22883)+('FTE Table'!F6*5659),(X6*0.22883)),0)) -> 0
A7: =IF(Personnel!C7="Cost Share","",Personnel!A7) -> 0 | B7: =ROUND(IF(Personnel!$C7="Cost Share",0,IF(Personnel!$D$2="No",(Personnel!F7/Personnel!$E7)*Personnel!$D7*Personnel!F$74,IF((Personnel!$D7*Personnel!F$74)<Salary_Cap,(Personnel!F7/Personnel!$E7)*Personnel!$D7*Personnel!F$74,(Personnel!F7/Personnel!$E7)*Salary_Cap))),0) -> 0 | C7: =ROUND(IF(Personnel!$C7="Cost Share",0,IF(Personnel!$D$2="No",(Personnel!G7/Personnel!$E7)*Personnel!$D7*Personnel!G$74,IF((Personnel!$D7*Personnel!G$74)<Salary_Cap,(Personnel!G7/Personnel!$E7)*Personnel!$D7*Personnel!G$74,(Personnel!G7/Personnel!$E7)*Salary_Cap))),0) -> 0 | D7: =ROUND(IF(Personnel!$C7="Cost Share",0,IF(Personnel!$D$2="No",(Personnel!H7/Personnel!$E7)*Personnel!$D7*Personnel!H$74,IF((Personnel!$D7*Personnel!H$74)<Salary_Cap,(Personnel!H7/Personnel!$E7)*Personnel!$D7*Personnel!H$74,(Personnel!H7/Personnel!$E7)*Salary_Cap))),0) -> 0 | E7: =ROUND(IF(Personnel!$C7="Cost Share",0,IF(Personnel!$D$2="No",(Personnel!I7/Personnel!$E7)*Personnel!$D7*Personnel!I$74,IF((Personnel!$D7*Personnel!I$74)<Salary_Cap,(Personnel!I7/Personnel!$E7)*Personnel!$D7*Personnel!I$74,(Personnel!I7/Personnel!$E7)*Salary_Cap))),0) -> 0 | F7: =ROUND(IF(Personnel!$C7="Cost Share",0,IF(Personnel!$D$2="No",(Personnel!J7/Personnel!$E7)*Personnel!$D7*Personnel!J$74,IF((Personnel!$D7*Personnel!J$74)<Salary_Cap,(Personnel!J7/Personnel!$E7)*Personnel!$D7*Personnel!J$74,(Personnel!J7/Personnel!$E7)*Salary_Cap))),0) -> 0 | H7: =ROUND(IF(Personnel!$C7<>"Sum",B7*'Rate Table'!$E$3,'Labor Detail'!B7*'Rate Table'!$E$7),0) -> 0 | I7: =ROUND(IF(Personnel!$C7<>"Sum",C7*'Rate Table'!$E$3,'Labor Detail'!C7*'Rate Table'!$E$7),0) -> 0 | J7: =ROUND(IF(Personnel!$C7<>"Sum",D7*'Rate Table'!$E$3,'Labor Detail'!D7*'Rate Table'!$E$7),0) -> 0 | K7: =ROUND(IF(Personnel!$C7<>"Sum",E7*'Rate Table'!$E$3,'Labor Detail'!E7*'Rate Table'!$E$7),0) -> 0 | L7: =ROUND(IF(Personnel!$C7<>"Sum",F7*'Rate Table'!$E$3,'Labor Detail'!F7*'Rate Table'!$E$7),0) -> 0 | N7: =IF(Personnel!$C7="Cost Share",0,2080*'FTE Table'!B7) -> 0 | O7: =IF(Personnel!$C7="Cost Share",0,2080*'FTE Table'!C7) -> 0 | P7: =IF(Personnel!$C7="Cost Share",0,2080*'FTE Table'!D7) -> 0 | Q7: =IF(Personnel!$C7="Cost Share",0,2080*'FTE Table'!E7) -> 0 | R7: =IF(Personnel!$C7="Cost Share",0,2080*'FTE Table'!F7) -> 0 | T7: =IF(Personnel!$C7="Cost Share",0,IF(Personnel!$D$2="yes",IF(Personnel!$D7*Personnel!F$74>Salary_Cap,(Personnel!$D7*'FTE Table'!B7*Personnel!F$74)-('FTE Table'!B7*Salary_Cap),0),0)) -> 0 | U7: =IF(Personnel!$C7="Cost Share",0,IF(Personnel!$D$2="yes",IF(Personnel!$D7*Personnel!G$74>Salary_Cap,(Personnel!$D7*'FTE Table'!C7*Personnel!G$74)-('FTE Table'!C7*Salary_Cap),0),0)) -> 0 | V7: =IF(Personnel!$C7="Cost Share",0,IF(Personnel!$D$2="yes",IF(Personnel!$D7*Personnel!H$74>Salary_Cap,(Personnel!$D7*'FTE Table'!D7*Personnel!H$74)-('FTE Table'!D7*Salary_Cap),0),0)) -> 0 | W7: =IF(Personnel!$C7="Cost Share",0,IF(Personnel!$D$2="yes",IF(Personnel!$D7*Personnel!I$74>Salary_Cap,(Personnel!$D7*'FTE Table'!E7*Personnel!I$74)-('FTE Table'!E7*Salary_Cap),0),0)) -> 0 | X7: =IF(Personnel!$C7="Cost Share",0,IF(Personnel!$D$2="yes",IF(Personnel!$D7*Personnel!J$74>Salary_Cap,(Personnel!$D7*'FTE Table'!F7*Personnel!J$74)-('FTE Table'!F7*Salary_Cap),0),0)) -> 0 | Z7: =IF(Personnel!$C7="Cost Share",0,IF(T7>0,IF(Personnel!$C7<>"Sum",(T7*0.22883)+('FTE Table'!B7*5659),(T7*0.22883)),0)) -> 0 | AA7: =IF(Personnel!$C7="Cost Share",0,IF(U7>0,IF(Personnel!$C7<>"Sum",(U7*0.22883)+('FTE Table'!C7*5659),(U7*0.22883)),0)) -> 0 | AB7: =IF(Personnel!$C7="Cost Share",0,IF(V7>0,IF(Personnel!$C7<>"Sum",(V7*0.22883)+('FTE Table'!D7*5659),(V7*0.22883)),0)) -> 0 | AC7: =IF(Personnel!$C7="Cost Share",0,IF(W7>0,IF(Personnel!$C7<>"Sum",(W7*0.22883)+('FTE Table'!E7*5659),(W7*0.22883)),0)) -> 0 | AD7: =IF(Personnel!$C7="Cost Share",0,IF(X7>0,IF(Personnel!$C7<>"Sum",(X7*0.22883)+('FTE Table'!F7*5659),(X7*0.22883)),0)) -> 0
A8: =IF(Personnel!C8="Cost Share","",Personnel!A8) -> 0 | B8: =ROUND(IF(Personnel!$C8="Cost Share",0,IF(Personnel!$D$2="No",(Personnel!F8/Personnel!$E8)*Personnel!$D8*Personnel!F$74,IF((Personnel!$D8*Personnel!F$74)<Salary_Cap,(Personnel!F8/Personnel!$E8)*Personnel!$D8*Personnel!F$74,(Personnel!F8/Personnel!$E8)*Salary_Cap))),0) -> 0 | C8: =ROUND(IF(Personnel!$C8="Cost Share",0,IF(Personnel!$D$2="No",(Personnel!G8/Personnel!$E8)*Personnel!$D8*Personnel!G$74,IF((Personnel!$D8*Personnel!G$74)<Salary_Cap,(Personnel!G8/Personnel!$E8)*Personnel!$D8*Personnel!G$74,(Personnel!G8/Personnel!$E8)*Salary_Cap))),0) -> 0 | D8: =ROUND(IF(Personnel!$C8="Cost Share",0,IF(Personnel!$D$2="No",(Personnel!H8/Personnel!$E8)*Personnel!$D8*Personnel!H$74,IF((Personnel!$D8*Personnel!H$74)<Salary_Cap,(Personnel!H8/Personnel!$E8)*Personnel!$D8*Personnel!H$74,(Personnel!H8/Personnel!$E8)*Salary_Cap))),0) -> 0 | E8: =ROUND(IF(Personnel!$C8="Cost Share",0,IF(Personnel!$D$2="No",(Personnel!I8/Personnel!$E8)*Personnel!$D8*Personnel!I$74,IF((Personnel!$D8*Personnel!I$74)<Salary_Cap,(Personnel!I8/Personnel!$E8)*Personnel!$D8*Personnel!I$74,(Personnel!I8/Personnel!$E8)*Salary_Cap))),0) -> 0 | F8: =ROUND(IF(Personnel!$C8="Cost Share",0,IF(Personnel!$D$2="No",(Personnel!J8/Personnel!$E8)*Personnel!$D8*Personnel!J$74,IF((Personnel!$D8*Personnel!J$74)<Salary_Cap,(Personnel!J8/Personnel!$E8)*Personnel!$D8*Personnel!J$74,(Personnel!J8/Personnel!$E8)*Salary_Cap))),0) -> 0 | H8: =ROUND(IF(Personnel!$C8<>"Sum",B8*'Rate Table'!$E$3,'Labor Detail'!B8*'Rate Table'!$E$7),0) -> 0 | I8: =ROUND(IF(Personnel!$C8<>"Sum",C8*'Rate Table'!$E$3,'Labor Detail'!C8*'Rate Table'!$E$7),0) -> 0 | J8: =ROUND(IF(Personnel!$C8<>"Sum",D8*'Rate Table'!$E$3,'Labor Detail'!D8*'Rate Table'!$E$7),0) -> 0 | K8: =ROUND(IF(Personnel!$C8<>"Sum",E8*'Rate Table'!$E$3,'Labor Detail'!E8*'Rate Table'!$E$7),0) -> 0 | L8: =ROUND(IF(Personnel!$C8<>"Sum",F8*'Rate Table'!$E$3,'Labor Detail'!F8*'Rate Table'!$E$7),0) -> 0 | N8: =IF(Personnel!$C8="Cost Share",0,2080*'FTE Table'!B8) -> 0 | O8: =IF(Personnel!$C8="Cost Share",0,2080*'FTE Table'!C8) -> 0 | P8: =IF(Personnel!$C8="Cost Share",0,2080*'FTE Table'!D8) -> 0 | Q8: =IF(Personnel!$C8="Cost Share",0,2080*'FTE Table'!E8) -> 0 | R8: =IF(Personnel!$C8="Cost Share",0,2080*'FTE Table'!F8) -> 0 | T8: =IF(Personnel!$C8="Cost Share",0,IF(Personnel!$D$2="yes",IF(Personnel!$D8*Personnel!F$74>Salary_Cap,(Personnel!$D8*'FTE Table'!B8*Personnel!F$74)-('FTE Table'!B8*Salary_Cap),0),0)) -> 0 | U8: =IF(Personnel!$C8="Cost Share",0,IF(Personnel!$D$2="yes",IF(Personnel!$D8*Personnel!G$74>Salary_Cap,(Personnel!$D8*'FTE Table'!C8*Personnel!G$74)-('FTE Table'!C8*Salary_Cap),0),0)) -> 0 | V8: =IF(Personnel!$C8="Cost Share",0,IF(Personnel!$D$2="yes",IF(Personnel!$D8*Personnel!H$74>Salary_Cap,(Personnel!$D8*'FTE Table'!D8*Personnel!H$74)-('FTE Table'!D8*Salary_Cap),0),0)) -> 0 | W8: =IF(Personnel!$C8="Cost Share",0,IF(Personnel!$D$2="yes",IF(Personnel!$D8*Personnel!I$74>Salary_Cap,(Personnel!$D8*'FTE Table'!E8*Personnel!I$74)-('FTE Table'!E8*Salary_Cap),0),0)) -> 0 | X8: =IF(Personnel!$C8="Cost Share",0,IF(Personnel!$D$2="yes",IF(Personnel!$D8*Personnel!J$74>Salary_Cap,(Personnel!$D8*'FTE Table'!F8*Personnel!J$74)-('FTE Table'!F8*Salary_Cap),0),0)) -> 0 | Z8: =IF(Personnel!$C8="Cost Share",0,IF(T8>0,IF(Personnel!$C8<>"Sum",(T8*0.22883)+('FTE Table'!B8*5659),(T8*0.22883)),0)) -> 0 | AA8: =IF(Personnel!$C8="Cost Share",0,IF(U8>0,IF(Personnel!$C8<>"Sum",(U8*0.22883)+('FTE Table'!C8*5659),(U8*0.22883)),0)) -> 0 | AB8: =IF(Personnel!$C8="Cost Share",0,IF(V8>0,IF(Personnel!$C8<>"Sum",(V8*0.22883)+('FTE Table'!D8*5659),(V8*0.22883)),0)) -> 0 | AC8: =IF(Personnel!$C8="Cost Share",0,IF(W8>0,IF(Personnel!$C8<>"Sum",(W8*0.22883)+('FTE Table'!E8*5659),(W8*0.22883)),0)) -> 0 | AD8: =IF(Personnel!$C8="Cost Share",0,IF(X8>0,IF(Personnel!$C8<>"Sum",(X8*0.22883)+('FTE Table'!F8*5659),(X8*0.22883)),0)) -> 0
A9: =IF(Personnel!C9="Cost Share","",Personnel!A9) -> 0 | B9: =ROUND(IF(Personnel!$C9="Cost Share",0,IF(Personnel!$D$2="No",(Personnel!F9/Personnel!$E9)*Personnel!$D9*Personnel!F$74,IF((Personnel!$D9*Personnel!F$74)<Salary_Cap,(Personnel!F9/Personnel!$E9)*Personnel!$D9*Personnel!F$74,(Personnel!F9/Personnel!$E9)*Salary_Cap))),0) -> 0 | C9: =ROUND(IF(Personnel!$C9="Cost Share",0,IF(Personnel!$D$2="No",(Personnel!G9/Personnel!$E9)*Personnel!$D9*Personnel!G$74,IF((Personnel!$D9*Personnel!G$74)<Salary_Cap,(Personnel!G9/Personnel!$E9)*Personnel!$D9*Personnel!G$74,(Personnel!G9/Personnel!$E9)*Salary_Cap))),0) -> 0 | D9: =ROUND(IF(Personnel!$C9="Cost Share",0,IF(Personnel!$D$2="No",(Personnel!H9/Personnel!$E9)*Personnel!$D9*Personnel!H$74,IF((Personnel!$D9*Personnel!H$74)<Salary_Cap,(Personnel!H9/Personnel!$E9)*Personnel!$D9*Personnel!H$74,(Personnel!H9/Personnel!$E9)*Salary_Cap))),0) -> 0 | E9: =ROUND(IF(Personnel!$C9="Cost Share",0,IF(Personnel!$D$2="No",(Personnel!I9/Personnel!$E9)*Personnel!$D9*Personnel!I$74,IF((Personnel!$D9*Personnel!I$74)<Salary_Cap,(Personnel!I9/Personnel!$E9)*Personnel!$D9*Personnel!I$74,(Personnel!I9/Personnel!$E9)*Salary_Cap))),0) -> 0 | F9: =ROUND(IF(Personnel!$C9="Cost Share",0,IF(Personnel!$D$2="No",(Personnel!J9/Personnel!$E9)*Personnel!$D9*Personnel!J$74,IF((Personnel!$D9*Personnel!J$74)<Salary_Cap,(Personnel!J9/Personnel!$E9)*Personnel!$D9*Personnel!J$74,(Personnel!J9/Personnel!$E9)*Salary_Cap))),0) -> 0 | H9: =ROUND(IF(Personnel!$C9<>"Sum",B9*'Rate Table'!$E$3,'Labor Detail'!B9*'Rate Table'!$E$7),0) -> 0 | I9: =ROUND(IF(Personnel!$C9<>"Sum",C9*'Rate Table'!$E$3,'Labor Detail'!C9*'Rate Table'!$E$7),0) -> 0 | J9: =ROUND(IF(Personnel!$C9<>"Sum",D9*'Rate Table'!$E$3,'Labor Detail'!D9*'Rate Table'!$E$7),0) -> 0 | K9: =ROUND(IF(Personnel!$C9<>"Sum",E9*'Rate Table'!$E$3,'Labor Detail'!E9*'Rate Table'!$E$7),0) -> 0 | L9: =ROUND(IF(Personnel!$C9<>"Sum",F9*'Rate Table'!$E$3,'Labor Detail'!F9*'Rate Table'!$E$7),0) -> 0 | N9: =IF(Personnel!$C9="Cost Share",0,2080*'FTE Table'!B9) -> 0 | O9: =IF(Personnel!$C9="Cost Share",0,2080*'FTE Table'!C9) -> 0 | P9: =IF(Personnel!$C9="Cost Share",0,2080*'FTE Table'!D9) -> 0 | Q9: =IF(Personnel!$C9="Cost Share",0,2080*'FTE Table'!E9) -> 0 | R9: =IF(Personnel!$C9="Cost Share",0,2080*'FTE Table'!F9) -> 0 | T9: =IF(Personnel!$C9="Cost Share",0,IF(Personnel!$D$2="yes",IF(Personnel!$D9*Personnel!F$74>Salary_Cap,(Personnel!$D9*'FTE Table'!B9*Personnel!F$74)-('FTE Table'!B9*Salary_Cap),0),0)) -> 0 | U9: =IF(Personnel!$C9="Cost Share",0,IF(Personnel!$D$2="yes",IF(Personnel!$D9*Personnel!G$74>Salary_Cap,(Personnel!$D9*'FTE Table'!C9*Personnel!G$74)-('FTE Table'!C9*Salary_Cap),0),0)) -> 0 | V9: =IF(Personnel!$C9="Cost Share",0,IF(Personnel!$D$2="yes",IF(Personnel!$D9*Personnel!H$74>Salary_Cap,(Personnel!$D9*'FTE Table'!D9*Personnel!H$74)-('FTE Table'!D9*Salary_Cap),0),0)) -> 0 | W9: =IF(Personnel!$C9="Cost Share",0,IF(Personnel!$D$2="yes",IF(Personnel!$D9*Personnel!I$74>Salary_Cap,(Personnel!$D9*'FTE Table'!E9*Personnel!I$74)-('FTE Table'!E9*Salary_Cap),0),0)) -> 0 | X9: =IF(Personnel!$C9="Cost Share",0,IF(Personnel!$D$2="yes",IF(Personnel!$D9*Personnel!J$74>Salary_Cap,(Personnel!$D9*'FTE Table'!F9*Personnel!J$74)-('FTE Table'!F9*Salary_Cap),0),0)) -> 0 | Z9: =IF(Personnel!$C9="Cost Share",0,IF(T9>0,IF(Personnel!$C9<>"Sum",(T9*0.22883)+('FTE Table'!B9*5659),(T9*0.22883)),0)) -> 0 | AA9: =IF(Personnel!$C9="Cost Share",0,IF(U9>0,IF(Personnel!$C9<>"Sum",(U9*0.22883)+('FTE Table'!C9*5659),(U9*0.22883)),0)) -> 0 | AB9: =IF(Personnel!$C9="Cost Share",0,IF(V9>0,IF(Personnel!$C9<>"Sum",(V9*0.22883)+('FTE Table'!D9*5659),(V9*0.22883)),0)) -> 0 | AC9: =IF(Personnel!$C9="Cost Share",0,IF(W9>0,IF(Personnel!$C9<>"Sum",(W9*0.22883)+('FTE Table'!E9*5659),(W9*0.22883)),0)) -> 0 | AD9: =IF(Personnel!$C9="Cost Share",0,IF(X9>0,IF(Personnel!$C9<>"Sum",(X9*0.22883)+('FTE Table'!F9*5659),(X9*0.22883)),0)) -> 0
A10: =IF(Personnel!C10="Cost Share","",Personnel!A10) -> 0 | B10: =ROUND(IF(Personnel!$C10="Cost Share",0,IF(Personnel!$D$2="No",(Personnel!F10/Personnel!$E10)*Personnel!$D10*Personnel!F$74,IF((Personnel!$D10*Personnel!F$74)<Salary_Cap,(Personnel!F10/Personnel!$E10)*Personnel!$D10*Personnel!F$74,(Personnel!F10/Personnel!$E10)*Salary_Cap))),0) -> 0 | C10: =ROUND(IF(Personnel!$C10="Cost Share",0,IF(Personnel!$D$2="No",(Personnel!G10/Personnel!$E10)*Personnel!$D10*Personnel!G$74,IF((Personnel!$D10*Personnel!G$74)<Salary_Cap,(Personnel!G10/Personnel!$E10)*Personnel!$D10*Personnel!G$74,(Personnel!G10/Personnel!$E10)*Salary_Cap))),0) -> 0 | D10: =ROUND(IF(Personnel!$C10="Cost Share",0,IF(Personnel!$D$2="No",(Personnel!H10/Personnel!$E10)*Personnel!$D10*Personnel!H$74,IF((Personnel!$D10*Personnel!H$74)<Salary_Cap,(Personnel!H10/Personnel!$E10)*Personnel!$D10*Personnel!H$74,(Personnel!H10/Personnel!$E10)*Salary_Cap))),0) -> 0 | E10: =ROUND(IF(Personnel!$C10="Cost Share",0,IF(Personnel!$D$2="No",(Personnel!I10/Personnel!$E10)*Personnel!$D10*Personnel!I$74,IF((Personnel!$D10*Personnel!I$74)<Salary_Cap,(Personnel!I10/Personnel!$E10)*Personnel!$D10*Personnel!I$74,(Personnel!I10/Personnel!$E10)*Salary_Cap))),0) -> 0 | F10: =ROUND(IF(Personnel!$C10="Cost Share",0,IF(Personnel!$D$2="No",(Personnel!J10/Personnel!$E10)*Personnel!$D10*Personnel!J$74,IF((Personnel!$D10*Personnel!J$74)<Salary_Cap,(Personnel!J10/Personnel!$E10)*Personnel!$D10*Personnel!J$74,(Personnel!J10/Personnel!$E10)*Salary_Cap))),0) -> 0 | H10: =ROUND(IF(Personnel!$C10<>"Sum",B10*'Rate Table'!$E$3,'Labor Detail'!B10*'Rate Table'!$E$7),0) -> 0 | I10: =ROUND(IF(Personnel!$C10<>"Sum",C10*'Rate Table'!$E$3,'Labor Detail'!C10*'Rate Table'!$E$7),0) -> 0 | J10: =ROUND(IF(Personnel!$C10<>"Sum",D10*'Rate Table'!$E$3,'Labor Detail'!D10*'Rate Table'!$E$7),0) -> 0 | K10: =ROUND(IF(Personnel!$C10<>"Sum",E10*'Rate Table'!$E$3,'Labor Detail'!E10*'Rate Table'!$E$7),0) -> 0 | L10: =ROUND(IF(Personnel!$C10<>"Sum",F10*'Rate Table'!$E$3,'Labor Detail'!F10*'Rate Table'!$E$7),0) -> 0 | N10: =IF(Personnel!$C10="Cost Share",0,2080*'FTE Table'!B10) -> 0 | O10: =IF(Personnel!$C10="Cost Share",0,2080*'FTE Table'!C10) -> 0 | P10: =IF(Personnel!$C10="Cost Share",0,2080*'FTE Table'!D10) -> 0 | Q10: =IF(Personnel!$C10="Cost Share",0,2080*'FTE Table'!E10) -> 0 | R10: =IF(Personnel!$C10="Cost Share",0,2080*'FTE Table'!F10) -> 0 | T10: =IF(Personnel!$C10="Cost Share",0,IF(Personnel!$D$2="yes",IF(Personnel!$D10*Personnel!F$74>Salary_Cap,(Personnel!$D10*'FTE Table'!B10*Personnel!F$74)-('FTE Table'!B10*Salary_Cap),0),0)) -> 0 | U10: =IF(Personnel!$C10="Cost Share",0,IF(Personnel!$D$2="yes",IF(Personnel!$D10*Personnel!G$74>Salary_Cap,(Personnel!$D10*'FTE Table'!C10*Personnel!G$74)-('FTE Table'!C10*Salary_Cap),0),0)) -> 0 | V10: =IF(Personnel!$C10="Cost Share",0,IF(Personnel!$D$2="yes",IF(Personnel!$D10*Personnel!H$74>Salary_Cap,(Personnel!$D10*'FTE Table'!D10*Personnel!H$74)-('FTE Table'!D10*Salary_Cap),0),0)) -> 0 | W10: =IF(Personnel!$C10="Cost Share",0,IF(Personnel!$D$2="yes",IF(Personnel!$D10*Personnel!I$74>Salary_Cap,(Personnel!$D10*'FTE Table'!E10*Personnel!I$74)-('FTE Table'!E10*Salary_Cap),0),0)) -> 0 | X10: =IF(Personnel!$C10="Cost Share",0,IF(Personnel!$D$2="yes",IF(Personnel!$D10*Personnel!J$74>Salary_Cap,(Personnel!$D10*'FTE Table'!F10*Personnel!J$74)-('FTE Table'!F10*Salary_Cap),0),0)) -> 0 | Z10: =IF(Personnel!$C10="Cost Share",0,IF(T10>0,IF(Personnel!$C10<>"Sum",(T10*0.22883)+('FTE Table'!B10*5659),(T10*0.22883)),0)) -> 0 | AA10: =IF(Personnel!$C10="Cost Share",0,IF(U10>0,IF(Personnel!$C10<>"Sum",(U10*0.22883)+('FTE Table'!C10*5659),(U10*0.22883)),0)) -> 0 | AB10: =IF(Personnel!$C10="Cost Share",0,IF(V10>0,IF(Personnel!$C10<>"Sum",(V10*0.22883)+('FTE Table'!D10*5659),(V10*0.22883)),0)) -> 0 | AC10: =IF(Personnel!$C10="Cost Share",0,IF(W10>0,IF(Personnel!$C10<>"Sum",(W10*0.22883)+('FTE Table'!E10*5659),(W10*0.22883)),0)) -> 0 | AD10: =IF(Personnel!$C10="Cost Share",0,IF(X10>0,IF(Personnel!$C10<>"Sum",(X10*0.22883)+('FTE Table'!F10*5659),(X10*0.22883)),0)) -> 0
A11: =IF(Personnel!C11="Cost Share","",Personnel!A11) -> 0 | B11: =ROUND(IF(Personnel!$C11="Cost Share",0,IF(Personnel!$D$2="No",(Personnel!F11/Personnel!$E11)*Personnel!$D11*Personnel!F$74,IF((Personnel!$D11*Personnel!F$74)<Salary_Cap,(Personnel!F11/Personnel!$E11)*Personnel!$D11*Personnel!F$74,(Personnel!F11/Personnel!$E11)*Salary_Cap))),0) -> 0 | C11: =ROUND(IF(Personnel!$C11="Cost Share",0,IF(Personnel!$D$2="No",(Personnel!G11/Personnel!$E11)*Personnel!$D11*Personnel!G$74,IF((Personnel!$D11*Personnel!G$74)<Salary_Cap,(Personnel!G11/Personnel!$E11)*Personnel!$D11*Personnel!G$74,(Personnel!G11/Personnel!$E11)*Salary_Cap))),0) -> 0 | D11: =ROUND(IF(Personnel!$C11="Cost Share",0,IF(Personnel!$D$2="No",(Personnel!H11/Personnel!$E11)*Personnel!$D11*Personnel!H$74,IF((Personnel!$D11*Personnel!H$74)<Salary_Cap,(Personnel!H11/Personnel!$E11)*Personnel!$D11*Personnel!H$74,(Personnel!H11/Personnel!$E11)*Salary_Cap))),0) -> 0 | E11: =ROUND(IF(Personnel!$C11="Cost Share",0,IF(Personnel!$D$2="No",(Personnel!I11/Personnel!$E11)*Personnel!$D11*Personnel!I$74,IF((Personnel!$D11*Personnel!I$74)<Salary_Cap,(Personnel!I11/Personnel!$E11)*Personnel!$D11*Personnel!I$74,(Personnel!I11/Personnel!$E11)*Salary_Cap))),0) -> 0 | F11: =ROUND(IF(Personnel!$C11="Cost Share",0,IF(Personnel!$D$2="No",(Personnel!J11/Personnel!$E11)*Personnel!$D11*Personnel!J$74,IF((Personnel!$D11*Personnel!J$74)<Salary_Cap,(Personnel!J11/Personnel!$E11)*Personnel!$D11*Personnel!J$74,(Personnel!J11/Personnel!$E11)*Salary_Cap))),0) -> 0 | H11: =ROUND(IF(Personnel!$C11<>"Sum",B11*'Rate Table'!$E$3,'Labor Detail'!B11*'Rate Table'!$E$7),0) -> 0 | I11: =ROUND(IF(Personnel!$C11<>"Sum",C11*'Rate Table'!$E$3,'Labor Detail'!C11*'Rate Table'!$E$7),0) -> 0 | J11: =ROUND(IF(Personnel!$C11<>"Sum",D11*'Rate Table'!$E$3,'Labor Detail'!D11*'Rate Table'!$E$7),0) -> 0 | K11: =ROUND(IF(Personnel!$C11<>"Sum",E11*'Rate Table'!$E$3,'Labor Detail'!E11*'Rate Table'!$E$7),0) -> 0 | L11: =ROUND(IF(Personnel!$C11<>"Sum",F11*'Rate Table'!$E$3,'Labor Detail'!F11*'Rate Table'!$E$7),0) -> 0 | N11: =IF(Personnel!$C11="Cost Share",0,2080*'FTE Table'!B11) -> 0 | O11: =IF(Personnel!$C11="Cost Share",0,2080*'FTE Table'!C11) -> 0 | P11: =IF(Personnel!$C11="Cost Share",0,2080*'FTE Table'!D11) -> 0 | Q11: =IF(Personnel!$C11="Cost Share",0,2080*'FTE Table'!E11) -> 0 | R11: =IF(Personnel!$C11="Cost Share",0,2080*'FTE Table'!F11) -> 0 | T11: =IF(Personnel!$C11="Cost Share",0,IF(Personnel!$D$2="yes",IF(Personnel!$D11*Personnel!F$74>Salary_Cap,(Personnel!$D11*'FTE Table'!B11*Personnel!F$74)-('FTE Table'!B11*Salary_Cap),0),0)) -> 0 | U11: =IF(Personnel!$C11="Cost Share",0,IF(Personnel!$D$2="yes",IF(Personnel!$D11*Personnel!G$74>Salary_Cap,(Personnel!$D11*'FTE Table'!C11*Personnel!G$74)-('FTE Table'!C11*Salary_Cap),0),0)) -> 0 | V11: =IF(Personnel!$C11="Cost Share",0,IF(Personnel!$D$2="yes",IF(Personnel!$D11*Personnel!H$74>Salary_Cap,(Personnel!$D11*'FTE Table'!D11*Personnel!H$74)-('FTE Table'!D11*Salary_Cap),0),0)) -> 0 | W11: =IF(Personnel!$C11="Cost Share",0,IF(Personnel!$D$2="yes",IF(Personnel!$D11*Personnel!I$74>Salary_Cap,(Personnel!$D11*'FTE Table'!E11*Personnel!I$74)-('FTE Table'!E11*Salary_Cap),0),0)) -> 0 | X11: =IF(Personnel!$C11="Cost Share",0,IF(Personnel!$D$2="yes",IF(Personnel!$D11*Personnel!J$74>Salary_Cap,(Personnel!$D11*'FTE Table'!F11*Personnel!J$74)-('FTE Table'!F11*Salary_Cap),0),0)) -> 0 | Z11: =IF(Personnel!$C11="Cost Share",0,IF(T11>0,IF(Personnel!$C11<>"Sum",(T11*0.22883)+('FTE Table'!B11*5659),(T11*0.22883)),0)) -> 0 | AA11: =IF(Personnel!$C11="Cost Share",0,IF(U11>0,IF(Personnel!$C11<>"Sum",(U11*0.22883)+('FTE Table'!C11*5659),(U11*0.22883)),0)) -> 0 | AB11: =IF(Personnel!$C11="Cost Share",0,IF(V11>0,IF(Personnel!$C11<>"Sum",(V11*0.22883)+('FTE Table'!D11*5659),(V11*0.22883)),0)) -> 0 | AC11: =IF(Personnel!$C11="Cost Share",0,IF(W11>0,IF(Personnel!$C11<>"Sum",(W11*0.22883)+('FTE Table'!E11*5659),(W11*0.22883)),0)) -> 0 | AD11: =IF(Personnel!$C11="Cost Share",0,IF(X11>0,IF(Personnel!$C11<>"Sum",(X11*0.22883)+('FTE Table'!F11*5659),(X11*0.22883)),0)) -> 0
A12: =IF(Personnel!C12="Cost Share","",Personnel!A12) -> 0 | B12: =ROUND(IF(Personnel!$C12="Cost Share",0,IF(Personnel!$D$2="No",(Personnel!F12/Personnel!$E12)*Personnel!$D12*Personnel!F$74,IF((Personnel!$D12*Personnel!F$74)<Salary_Cap,(Personnel!F12/Personnel!$E12)*Personnel!$D12*Personnel!F$74,(Personnel!F12/Personnel!$E12)*Salary_Cap))),0) -> 0 | C12: =ROUND(IF(Personnel!$C12="Cost Share",0,IF(Personnel!$D$2="No",(Personnel!G12/Personnel!$E12)*Personnel!$D12*Personnel!G$74,IF((Personnel!$D12*Personnel!G$74)<Salary_Cap,(Personnel!G12/Personnel!$E12)*Personnel!$D12*Personnel!G$74,(Personnel!G12/Personnel!$E12)*Salary_Cap))),0) -> 0 | D12: =ROUND(IF(Personnel!$C12="Cost Share",0,IF(Personnel!$D$2="No",(Personnel!H12/Personnel!$E12)*Personnel!$D12*Personnel!H$74,IF((Personnel!$D12*Personnel!H$74)<Salary_Cap,(Personnel!H12/Personnel!$E12)*Personnel!$D12*Personnel!H$74,(Personnel!H12/Personnel!$E12)*Salary_Cap))),0) -> 0 | E12: =ROUND(IF(Personnel!$C12="Cost Share",0,IF(Personnel!$D$2="No",(Personnel!I12/Personnel!$E12)*Personnel!$D12*Personnel!I$74,IF((Personnel!$D12*Personnel!I$74)<Salary_Cap,(Personnel!I12/Personnel!$E12)*Personnel!$D12*Personnel!I$74,(Personnel!I12/Personnel!$E12)*Salary_Cap))),0) -> 0 | F12: =ROUND(IF(Personnel!$C12="Cost Share",0,IF(Personnel!$D$2="No",(Personnel!J12/Personnel!$E12)*Personnel!$D12*Personnel!J$74,IF((Personnel!$D12*Personnel!J$74)<Salary_Cap,(Personnel!J12/Personnel!$E12)*Personnel!$D12*Personnel!J$74,(Personnel!J12/Personnel!$E12)*Salary_Cap))),0) -> 0 | H12: =ROUND(IF(Personnel!$C12<>"Sum",B12*'Rate Table'!$E$3,'Labor Detail'!B12*'Rate Table'!$E$7),0) -> 0 | I12: =ROUND(IF(Personnel!$C12<>"Sum",C12*'Rate Table'!$E$3,'Labor Detail'!C12*'Rate Table'!$E$7),0) -> 0 | J12: =ROUND(IF(Personnel!$C12<>"Sum",D12*'Rate Table'!$E$3,'Labor Detail'!D12*'Rate Table'!$E$7),0) -> 0 | K12: =ROUND(IF(Personnel!$C12<>"Sum",E12*'Rate Table'!$E$3,'Labor Detail'!E12*'Rate Table'!$E$7),0) -> 0 | L12: =ROUND(IF(Personnel!$C12<>"Sum",F12*'Rate Table'!$E$3,'Labor Detail'!F12*'Rate Table'!$E$7),0) -> 0 | N12: =IF(Personnel!$C12="Cost Share",0,2080*'FTE Table'!B12) -> 0 | O12: =IF(Personnel!$C12="Cost Share",0,2080*'FTE Table'!C12) -> 0 | P12: =IF(Personnel!$C12="Cost Share",0,2080*'FTE Table'!D12) -> 0 | Q12: =IF(Personnel!$C12="Cost Share",0,2080*'FTE Table'!E12) -> 0 | R12: =IF(Personnel!$C12="Cost Share",0,2080*'FTE Table'!F12) -> 0 | T12: =IF(Personnel!$C12="Cost Share",0,IF(Personnel!$D$2="yes",IF(Personnel!$D12*Personnel!F$74>Salary_Cap,(Personnel!$D12*'FTE Table'!B12*Personnel!F$74)-('FTE Table'!B12*Salary_Cap),0),0)) -> 0 | U12: =IF(Personnel!$C12="Cost Share",0,IF(Personnel!$D$2="yes",IF(Personnel!$D12*Personnel!G$74>Salary_Cap,(Personnel!$D12*'FTE Table'!C12*Personnel!G$74)-('FTE Table'!C12*Salary_Cap),0),0)) -> 0 | V12: =IF(Personnel!$C12="Cost Share",0,IF(Personnel!$D$2="yes",IF(Personnel!$D12*Personnel!H$74>Salary_Cap,(Personnel!$D12*'FTE Table'!D12*Personnel!H$74)-('FTE Table'!D12*Salary_Cap),0),0)) -> 0 | W12: =IF(Personnel!$C12="Cost Share",0,IF(Personnel!$D$2="yes",IF(Personnel!$D12*Personnel!I$74>Salary_Cap,(Personnel!$D12*'FTE Table'!E12*Personnel!I$74)-('FTE Table'!E12*Salary_Cap),0),0)) -> 0 | X12: =IF(Personnel!$C12="Cost Share",0,IF(Personnel!$D$2="yes",IF(Personnel!$D12*Personnel!J$74>Salary_Cap,(Personnel!$D12*'FTE Table'!F12*Personnel!J$74)-('FTE Table'!F12*Salary_Cap),0),0)) -> 0 | Z12: =IF(Personnel!$C12="Cost Share",0,IF(T12>0,IF(Personnel!$C12<>"Sum",(T12*0.22883)+('FTE Table'!B12*5659),(T12*0.22883)),0)) -> 0 | AA12: =IF(Personnel!$C12="Cost Share",0,IF(U12>0,IF(Personnel!$C12<>"Sum",(U12*0.22883)+('FTE Table'!C12*5659),(U12*0.22883)),0)) -> 0 | AB12: =IF(Personnel!$C12="Cost Share",0,IF(V12>0,IF(Personnel!$C12<>"Sum",(V12*0.22883)+('FTE Table'!D12*5659),(V12*0.22883)),0)) -> 0 | AC12: =IF(Personnel!$C12="Cost Share",0,IF(W12>0,IF(Personnel!$C12<>"Sum",(W12*0.22883)+('FTE Table'!E12*5659),(W12*0.22883)),0)) -> 0 | AD12: =IF(Personnel!$C12="Cost Share",0,IF(X12>0,IF(Personnel!$C12<>"Sum",(X12*0.22883)+('FTE Table'!F12*5659),(X12*0.22883)),0)) -> 0
